BEGIN:VCALENDAR
VERSION:2.0
PRODID:-//PARROCCHIA DI GRAFFIGNANA - ECPv6.15.20//NONSGML v1.0//EN
CALSCALE:GREGORIAN
METHOD:PUBLISH
X-ORIGINAL-URL:https://www.parrocchiadigraffignana.it
X-WR-CALDESC:Eventi per PARROCCHIA DI GRAFFIGNANA
REFRESH-INTERVAL;VALUE=DURATION:PT1H
X-Robots-Tag:noindex
X-PUBLISHED-TTL:PT1H
BEGIN:VTIMEZONE
TZID:Europe/Rome
BEGIN:DAYLIGHT
TZOFFSETFROM:+0100
TZOFFSETTO:+0200
TZNAME:CEST
DTSTART:20250330T010000
END:DAYLIGHT
BEGIN:STANDARD
TZOFFSETFROM:+0200
TZOFFSETTO:+0100
TZNAME:CET
DTSTART:20251026T010000
END:STANDARD
BEGIN:DAYLIGHT
TZOFFSETFROM:+0100
TZOFFSETTO:+0200
TZNAME:CEST
DTSTART:20260329T010000
END:DAYLIGHT
BEGIN:STANDARD
TZOFFSETFROM:+0200
TZOFFSETTO:+0100
TZNAME:CET
DTSTART:20261025T010000
END:STANDARD
BEGIN:DAYLIGHT
TZOFFSETFROM:+0100
TZOFFSETTO:+0200
TZNAME:CEST
DTSTART:20270328T010000
END:DAYLIGHT
BEGIN:STANDARD
TZOFFSETFROM:+0200
TZOFFSETTO:+0100
TZNAME:CET
DTSTART:20271031T010000
END:STANDARD
END:VTIMEZONE
BEGIN:VEVENT
DTSTART;TZID=Europe/Rome:20260627T191500
DTEND;TZID=Europe/Rome:20260627T235900
DTSTAMP:20260420T222040
CREATED:20260417T213224Z
LAST-MODIFIED:20260417T213224Z
UID:4451-1782587700-1782604740@www.parrocchiadigraffignana.it
SUMMARY:Sagra con NOI
DESCRIPTION:
URL:https://www.parrocchiadigraffignana.it/calendario-eventi/sagra-con-noi-2/
LOCATION:Oratorio San Giovanni Bosco\, Via Vittorio Veneto\, 101\, Graffignana\, 26813\, Italia
CATEGORIES:Cene,Ludico/Ricreativi
END:VEVENT
BEGIN:VEVENT
DTSTART;VALUE=DATE:20260817
DTEND;VALUE=DATE:20260905
DTSTAMP:20260420T222040
CREATED:20260417T212917Z
LAST-MODIFIED:20260417T212917Z
UID:4443-1786924800-1788566399@www.parrocchiadigraffignana.it
SUMMARY:Grest 2026 - Bella Fra!
DESCRIPTION:
URL:https://www.parrocchiadigraffignana.it/calendario-eventi/grest-2026-bella-fra/
CATEGORIES:Grest
END:VEVENT
BEGIN:VEVENT
DTSTART;TZID=Europe/Rome:20260826T124500
DTEND;TZID=Europe/Rome:20260827T020000
DTSTAMP:20260420T222040
CREATED:20260417T213049Z
LAST-MODIFIED:20260417T213049Z
UID:4447-1787748300-1787796000@www.parrocchiadigraffignana.it
SUMMARY:Gardaland\, Grest 2026 - Bella Fra!
DESCRIPTION:
URL:https://www.parrocchiadigraffignana.it/calendario-eventi/gardaland-grest-2026-bella-fra/
LOCATION:Gardaland Park\, Via Derna\, 4\, Castelnuovo del Garda\, VR\, 37014\, Italia
CATEGORIES:Ludico/Ricreativi
END:VEVENT
BEGIN:VEVENT
DTSTART;TZID=Europe/Rome:20260828T190000
DTEND;TZID=Europe/Rome:20260828T235900
DTSTAMP:20260420T222040
CREATED:20260417T213141Z
LAST-MODIFIED:20260417T213141Z
UID:4449-1787943600-1787961540@www.parrocchiadigraffignana.it
SUMMARY:Cena\, Grest 2026 - Bella Fra!
DESCRIPTION:
URL:https://www.parrocchiadigraffignana.it/calendario-eventi/cena-grest-2026-bella-fra/
LOCATION:Oratorio San Giovanni Bosco\, Via Vittorio Veneto\, 101\, Graffignana\, 26813\, Italia
CATEGORIES:Cene
END:VEVENT
BEGIN:VEVENT
DTSTART;TZID=Europe/Rome:20260904T210000
DTEND;TZID=Europe/Rome:20260904T210000
DTSTAMP:20260420T222040
CREATED:20260417T213000Z
LAST-MODIFIED:20260417T213000Z
UID:4445-1788555600-1788555600@www.parrocchiadigraffignana.it
SUMMARY:Serata Finale\, Grest 2026 - Bella Fra!
DESCRIPTION:
URL:https://www.parrocchiadigraffignana.it/calendario-eventi/serata-finale-grest-2026-bella-fra/
LOCATION:Oratorio San Giovanni Bosco\, Via Vittorio Veneto\, 101\, Graffignana\, 26813\, Italia
CATEGORIES:Grest,Ludico/Ricreativi
END:VEVENT
END:VCALENDAR